BEGIN:VCALENDAR
VERSION:2.0
PRODID:-//Burnaby Hospice Society - ECPv6.15.12.2//NONSGML v1.0//EN
CALSCALE:GREGORIAN
METHOD:PUBLISH
X-ORIGINAL-URL:https://www.burnabyhospice.org
X-WR-CALDESC:Events for Burnaby Hospice Society
REFRESH-INTERVAL;VALUE=DURATION:PT1H
X-Robots-Tag:noindex
X-PUBLISHED-TTL:PT1H
BEGIN:VTIMEZONE
TZID:UTC
BEGIN:STANDARD
TZOFFSETFROM:+0000
TZOFFSETTO:+0000
TZNAME:UTC
DTSTART:20240101T000000
END:STANDARD
END:VTIMEZONE
BEGIN:VEVENT
DTSTART;TZID=UTC:20250924T103000
DTEND;TZID=UTC:20250924T120000
DTSTAMP:20260423T120056
CREATED:20250414T064917Z
LAST-MODIFIED:20250618T123530Z
UID:380-1758709800-1758715200@www.burnabyhospice.org
SUMMARY:Hospice Event
DESCRIPTION:An educational event designed to provide the community with insights into the services offered by Burnaby Hospice Society.
URL:https://www.burnabyhospice.org/events/hospice-event/
LOCATION:BC
ATTACH;FMTTYPE=image/jpeg:https://www.burnabyhospice.org/wp-content/uploads/2025/04/Connecting-Communities-img-1.jpg
END:VEVENT
BEGIN:VEVENT
DTSTART;TZID=UTC:20250620T080000
DTEND;TZID=UTC:20250620T190000
DTSTAMP:20260423T120056
CREATED:20250415T120613Z
LAST-MODIFIED:20250618T123506Z
UID:439-1750406400-1750446000@www.burnabyhospice.org
SUMMARY:Care Information Session
DESCRIPTION:An educational event designed to provide the community with insights into the services offered by Burnaby Hospice Society.
URL:https://www.burnabyhospice.org/events/care-information-session/
LOCATION:BC
ATTACH;FMTTYPE=image/jpeg:https://www.burnabyhospice.org/wp-content/uploads/2025/04/Connecting-Communities-img-2.jpg
END:VEVENT
BEGIN:VEVENT
DTSTART;TZID=UTC:20250516T113000
DTEND;TZID=UTC:20250516T120000
DTSTAMP:20260423T120056
CREATED:20250414T054331Z
LAST-MODIFIED:20250414T074445Z
UID:373-1747395000-1747396800@www.burnabyhospice.org
SUMMARY:Hospice Care Information Session
DESCRIPTION:An educational event designed to provide the community with insights into the services offered by Burnaby Hospice Society.
URL:https://www.burnabyhospice.org/events/hospice-care-information-session/
LOCATION:Vancouver Studio\, Suite 210-5149 Country Hills Blvd NW City/Town\, Calgary\, Alberta\, T3A 5K8\, Canada
ATTACH;FMTTYPE=image/jpeg:https://www.burnabyhospice.org/wp-content/uploads/2025/04/Connecting-Communities-img-2.jpg
END:VEVENT
BEGIN:VEVENT
DTSTART;TZID=UTC:20250427T103000
DTEND;TZID=UTC:20250427T120000
DTSTAMP:20260423T120056
CREATED:20250414T054201Z
LAST-MODIFIED:20250414T074435Z
UID:369-1745749800-1745755200@www.burnabyhospice.org
SUMMARY:Annual Memorial Walk for Hospice Care.
DESCRIPTION:A community event where participants walk in honor of loved ones\, raising funds for Burnaby Hospice Society’s programs.
URL:https://www.burnabyhospice.org/events/annual-memorial-walk-for-hospice-care/
LOCATION:Vancouver Studio\, Suite 210-5149 Country Hills Blvd NW City/Town\, Calgary\, Alberta\, T3A 5K8\, Canada
ATTACH;FMTTYPE=image/jpeg:https://www.burnabyhospice.org/wp-content/uploads/2025/04/Connecting-Communities-img-1.jpg
END:VEVENT
END:VCALENDAR